BEGIN:VCALENDAR
VERSION:2.0
PRODID:-//wp-events-plugin.com//7.2.3.1//EN
TZID:Europe/Berlin
X-WR-TIMEZONE:Europe/Berlin
BEGIN:VEVENT
UID:60@jsp-web.com
DTSTART;TZID=Europe/Berlin:20220810T123000
DTEND;TZID=Europe/Berlin:20220810T124500
DTSTAMP:20220803T104533Z
URL:https://www.jsp-web.com/kurse/test-event/
SUMMARY:Test-Event
DESCRIPTION:Hier mit Text
LOCATION:JSP-Web\, Mauerstr. 8\, Bielefeld\, Nordrhein-Westfalen\, 33602\, 
 Deutschland
X-APPLE-STRUCTURED-LOCATION;VALUE=URI;X-ADDRESS=Mauerstr. 8\, Bielefeld\, N
 ordrhein-Westfalen\, 33602\, Deutschland;X-APPLE-RADIUS=100;X-TITLE=JSP-We
 b:geo:0,0
END:VEVENT
BEGIN:VTIMEZONE
TZID:Europe/Berlin
X-LIC-LOCATION:Europe/Berlin
BEGIN:DAYLIGHT
DTSTART:20220327T030000
TZOFFSETFROM:+0100
TZOFFSETTO:+0200
TZNAME:CEST
END:DAYLIGHT
END:VTIMEZONE
END:VCALENDAR